Workbook

Sheet Übersicht
A1: Gesamtwerte für Datenbank sowie Kostenstruktur
A2: (Umsetzung HosPalFG: HosPal-Datenbank und Kostenstruktur gem. § 10 HosPalFG)
B4: 8.2 Hospiz- und palliativspezifische Weiterbildungen inkl. Schulungen und Supervision | C4: 8.3 (Hospiz- und palliativspezifische) Fortbildungen
A5: Anzahl Teilnehmende (im Kalenderjahr) | B5: =Erhebungsblatt!H49 -> 0 | C5: =Erhebungsblatt!N49 -> 0
A6: Anzahl Stunden (im Kalenderjahr) | B6: =Erhebungsblatt!E49+Erhebungsblatt!J49 -> 0 | C6: =Erhebungsblatt!P49 -> 0
A7: Gesamtkosten Kostenstruktur "Bildung u. Supervision" | B7: =Erhebungsblatt!F49+Erhebungsblatt!L49 -> 0
A8: Gesamtkosten Kostenstruktur "Personalkosten" | C8: =Erhebungsblatt!Q49 -> 0
A11: Werte für Datenbank NUR für kombinierte Teams
A12: MPT (60%)
B13: 8.2 Hospiz- und palliativspezifische Weiterbildungen inkl. Schulungen und Supervision | C13: 8.3 (Hospiz- und palliativspezifische) Fortbildungen
A14: Anzahl Teilnehmende (im Kalenderjahr) | B14: =B5 -> 0 | C14: =C5 -> 0
A15: Anzahl Stunden (im Kalenderjahr) | B15: =B6*0.6 -> 0 | C15: =C6*0.6 -> 0
A17: PKD (40%)
B18: 8.2 Hospiz- und palliativspezifische Weiterbildungen inkl. Schulungen und Supervision | C18: 8.3 (Hospiz- und palliativspezifische) Fortbildungen
A19: Anzahl Teilnehmende (im Kalenderjahr) | B19: =B5 -> 0 | C19: =C5 -> 0
A20: Anzahl Stunden (im Kalenderjahr) | B20: =B6*0.4 -> 0 | C20: =C6*0.4 -> 0

Sheet Erhebungsblatt
A1: Erhebung Bildungsmaßnahmen
A2: (Umsetzung HosPalFG: HosPal-Datenbank und Kostenstruktur § 10 HosPalFG)
B4: Gesamtkosten Kostenstruktur "Bildung u. Supervision" | M4: Gesamtkosten Kostenstruktur "Personalkosten"
B5: 8.2 Hospiz- und palliativspezifische Weiterbildungen inkl. Schulungen | G5: 8.2 HOS/PAL-spezifische Supervision | M5: 8.3 (hospiz- und palliativspezifische) Fortbildungen
B6: Entsprechend einer berechtigten freiwilligen Bildungsmaßnahme nach berufsrechtlichen Regelungen oder den Qualitätskriterien entpsrechend z.B. Palliativlehrgang der Österreichischen Palliativgesellschaft (OPG) für Mediziner:innen, Interprofessioneller Palliativ-Basislehrgang, Fachspezifische Vertiefungslehrgänge, Erlangung der Qualifikation zur (Kinder-)Hospizbegleiter:in, Schulungen z.B. für Schmerztherapie und Symptomkontrolle. Freiwillige Bildungsmaßnahmen z.B. (Fach-)Tagungen, Kongresse etc. | G6: zählt zu 8.2., wird daher in der Übersicht mit den dortigen Spalten summiert; WICHTIG: TN zählen nur einmal, die Stunden werden jedoch pro Termin je TN gezählt (TN je Termin x Stunden je Termin) | M6: Entsprechend einer verpflichtenden Bildungsmaßnahme nach berufsrechtlichen Regelungen (z.B. § 63 Abs. 1 und 104c GuKG, Punkt 3.3 und 4.4 der Anlage 1 der Art 15a-Vereinbarung über Sozialbetreuungsberufe – BGBl I Nr 55/2005, § 49 Abs 2c ÄrzteG). Dabei kann es sich auch um themenspezifische Schulungen, (Fach-)Tagungen, Kongresse, etc. handeln.
B7: Name Mitarbeiterin/Mitarbeiter | C7: Art der Weiterbiildung | D7: Datum/Zeitraum | E7: Stunden | F7: Nettokosten | G7: Datum | H7: Anzahl der MA je Termin | I7: Stunden je Termin | J7: Stunden GESAMT | K7: Nettoaufwendungen/Person/Kurs | L7: Nettokosten | M7: Name Mitarbeiterin/Mitarbeiter | N7: Art der Forbildung | O7: Datum/Zeitraum | P7: Stunden | Q7: Nettokosten
J8: =H8*I8 -> 0 | K8: =IF(H8,L8/H8,0) -> 0
J9: =H9*I9 -> 0 | K9: =IF(H9,L9/H9,0) -> 0
J10: =H10*I10 -> 0 | K10: =IF(H10,L10/H10,0) -> 0
J11: =H11*I11 -> 0 | K11: =IF(H11,L11/H11,0) -> 0
J12: =H12*I12 -> 0 | K12: =IF(H12,L12/H12,0) -> 0
J13: =H13*I13 -> 0 | K13: =IF(H13,L13/H13,0) -> 0
J14: =H14*I14 -> 0 | K14: =IF(H14,L14/H14,0) -> 0
J15: =H15*I15 -> 0 | K15: =IF(H15,L15/H15,0) -> 0
J16: =H16*I16 -> 0 | K16: =IF(H16,L16/H16,0) -> 0
J17: =H17*I17 -> 0 | K17: =IF(H17,L17/H17,0) -> 0
J18: =H18*I18 -> 0 | K18: =IF(H18,L18/H18,0) -> 0
J19: =H19*I19 -> 0 | K19: =IF(H19,L19/H19,0) -> 0
... J48: =H48*I48 -> 0 | K48: =IF(H48,L48/H48,0) -> 0
A49: Summen | B49: Anzahl MA mit zumindest einer freiwilligen HosPal Bildungsmaßnahme bzw. entsprechend der HosPal Qualitätskriterien: | E49: =SUM(E8:E48) -> 0 | F49: =SUM(F8:F48) -> 0 | G49: Anzahl MA im Team: | J49: =SUM(J8:J48) -> 0 | K49: =SUM(K8:K48) -> 0 | L49: =SUM(L8:L48) -> 0 | M49: Anzahl MA mit zumindest einer berufrechtlich verpflichtenden Bildungsmaßnahme: | P49: =SUM(P8:P48) -> 0 | Q49: =SUM(Q8:Q48) -> 0

Sheet Erläuterungen
A1: Erhebung Bildungsmaßnahmen
A2: (Umsetzung HosPalFG: HosPal-Datenbank gem. § 10 HosPalFG)
A4: Eingaben in Übersicht und Erhebungsblatt | B4: Die Zellen in der Übersicht befüllen sich automatisch aus den Angaben im Erhebungsblatt und sind daher gesperrt. Auch im Erhebungsblatt sind manche Felder gesperrt, wenn sie mit Formeln hinterlegt sind. Sie befüllen sich, sobald die Werte vollständig angegeben sind.
A5: Welche Bildungsmaßnahmen sind anzugeben? | B5: Nur jene TN und Anzahl der Stunden (im Kalenderjahr) sind anzugeben, die durch die Einrichtung und aus HosPal-Mitteln (mit)finanziert werden. D.h. private Bildungsmaßnahmen (nicht in der Dienstzeit und privat finanziert) sind nicht anzugeben. Erfolgt jedoch die Teilnahme an einer für die Einrichtung kostenlosen Bildungsmaßnahme in der Dienstzeit, ist sie im Excel anzugeben und sollen die Gesamtstunden gezählt werden (keine Kosten). Umgekehrt sind die Kosten und die Stunden anzugeben, wenn diese durch die Einrichtung übernommen werden, auch wenn die Bildungsmaßnahme in der Freizeit stattfindet.
A6: Wer ist Mitarbeiterin und Mitarbeiter (MA)? | B6: Jede entgeltlich angestellte Person, auf Werkvertrags- bzw. Honorarbasis tätige Person oder ehrenamtliche Hospizbegleitende, welche unter Z06 der HosPal-Datenbank angegeben wurde.
A7: Wie ergibt sich die Anzahl der MA? | B7: Bildungsmaßnahmen sind je Mitarbeiterin oder Mitarbeiter (MA) anzugeben. Die gelben Felder sind mit der Anzahl der MA zu befüllen, die an zumindest einer Bildungsmaßnahme teilgenommen haben. Es können nicht mehr MA erfasst werden, als in der HosPal-Datenbank unter Z06 angegeben wurden. Es wird davon ausgegangen, dass jede und jeder an Supervisionen teilnimmt, daher wird diese Zahl im Feld für Supervision als Anzahl der MA übernommen. Beispiel für Zählweise: 4 Personen aus dem PKD haben an 6 Supervisionen zu je 2 Stunden teilgenommen. Der Eintrag in die HosPal-Datenbank wäre dementsprechend Anzahl der Teilnehmenden 4 und Anzahl der Stunden 48.
A8: Wie sind die Stunden zu erfassen? | B8: Es sind im Erhebungsjahr stattgefundene Bildungsmaßnahmen (begonnen, abgeschlossen, vom Vorjahr fortgeführt, über das Erhebungsjahr hinausgehend) anzuführen. Es sind somit die tatsächlich im Kalenderjahr absolvierten Stunden einzugeben, auch wenn z.B. die Finanzierung der Bildungsmaßnahme bereits im vorangegangenen Kalenderjahr erfolgte.
A9: Welche Kosten sind relevant? | B9: Es sind alle Nettoaufwendungen relevant. Dies sind die Kosten exklusive allfälliger Selbstbehalte der Teilnehmenden und exklusive anderweitiger Kostenübernahme aus z.B. Spenden, zentral aus HosPal-Fonds-Mitteln finanzierte Angebote. Sobald eine (Mit)Finanzierung aus HosPal-Mitteln erfolgte, was z.B. auch die Dienstzeit betrifft, ist eine Bildungsmaßnahme zu erfassen (siehe oben).
A10: Wie ist mit über das Kalenderjahr hinausgehenden Bildungsmaßnahmen umzugehen? | B10: Die Kosten sind in jenem Jahr anzugeben, in dem sie bezahlt wurden. Die Stunden aufgeteilt auf die tatsächlichen Stunden im Kalenderjahr. Somit können Stunden in einem Jahr anfallen, in dem keine Kosten erfasst sind, weil diese schon im Vorjahr bezahlt und gemeldet wurden.
